BEGIN:VCALENDAR
VERSION:2.0
PRODID:-//hacksw/handcal//NONSGML v1.0//EN
BEGIN:VEVENT
SUMMARY:Entrainement du Lundi
UID:81a87630-dec7-4bd6-b680-67a457042d4f
DTSTART:20260601T180000Z
DTEND:20260601T203000Z
LOCATION:Localisation   
CATEGORIES:Sportif
STATUS:
URL;VALUE=URI:https://www.tt-mennecy.com/evenements/2026/06/01/entrainement-du-lundi-2433860
END:VEVENT
END:VCALENDAR
