BEGIN:VCALENDAR
VERSION:2.0
PRODID:-//hacksw/handcal//NONSGML v1.0//EN
BEGIN:VEVENT
SUMMARY:Entrainement du mercredi
UID:abaf7cb7-07ca-4c3d-8370-23a0b8457c20
DTSTART:20260603T180000Z
DTEND:20260603T203000Z
LOCATION:Localisation   
CATEGORIES:Sportif
STATUS:
URL;VALUE=URI:https://www.tt-mennecy.com/evenements/2026/06/03/entrainement-du-mercredi-2433874
END:VEVENT
END:VCALENDAR
