BEGIN:VCALENDAR
VERSION:2.0
PRODID:-//hacksw/handcal//NONSGML v1.0//EN
BEGIN:VEVENT
SUMMARY:Entrainement du Lundi
UID:6d039788-a85c-41fa-a1a0-a7c4f273602c
DTSTART:20260608T180000Z
DTEND:20260608T203000Z
LOCATION:Localisation   
CATEGORIES:Sportif
STATUS:
URL;VALUE=URI:https://www.tt-mennecy.com/evenements/2026/06/08/entrainement-du-lundi-2433859
END:VEVENT
END:VCALENDAR
