BEGIN:VCALENDAR
VERSION:2.0
PRODID:-//hacksw/handcal//NONSGML v1.0//EN
BEGIN:VEVENT
SUMMARY:Entrainement du mercredi
UID:00afd36f-9e14-4c8b-ae35-dc9527943a81
DTSTART:20260610T180000Z
DTEND:20260610T203000Z
LOCATION:Localisation   
CATEGORIES:Sportif
STATUS:
URL;VALUE=URI:https://www.tt-mennecy.com/evenements/2026/06/10/entrainement-du-mercredi-2433873
END:VEVENT
END:VCALENDAR
