BEGIN:VCALENDAR
VERSION:2.0
PRODID:-//hacksw/handcal//NONSGML v1.0//EN
BEGIN:VEVENT
SUMMARY:Challenge des ecoles
UID:211cf29e-e40e-4f71-965e-0cf152fcfea0
DTSTART:20260613T113000Z
DTEND:20260613T153000Z
LOCATION:Localisation   
CATEGORIES:Sportif
STATUS:
URL;VALUE=URI:https://www.tt-mennecy.com/evenements/2026/06/13/challenge-des-ecoles-2433842
END:VEVENT
END:VCALENDAR
