BEGIN:VCALENDAR
VERSION:2.0
PRODID:-//hacksw/handcal//NONSGML v1.0//EN
BEGIN:VEVENT
SUMMARY:Entrainement du Lundi
UID:8dc37a96-3529-43ed-b8c4-2e3a07c6bd67
DTSTART:20260615T180000Z
DTEND:20260615T203000Z
LOCATION:Localisation   
CATEGORIES:Sportif
STATUS:
URL;VALUE=URI:https://www.tt-mennecy.com/evenements/2026/06/15/entrainement-du-lundi-2433858
END:VEVENT
END:VCALENDAR
