BEGIN:VCALENDAR
VERSION:2.0
PRODID:-//hacksw/handcal//NONSGML v1.0//EN
BEGIN:VEVENT
SUMMARY:Entrainement du mercredi
UID:807a970c-4e0f-474b-9872-e32b7e5c8adb
DTSTART:20260617T180000Z
DTEND:20260617T203000Z
LOCATION:Localisation   
CATEGORIES:Sportif
STATUS:
URL;VALUE=URI:https://www.tt-mennecy.com/evenements/2026/06/17/entrainement-du-mercredi-2433868
END:VEVENT
END:VCALENDAR
