BEGIN:VCALENDAR
VERSION:2.0
PRODID:-//hacksw/handcal//NONSGML v1.0//EN
BEGIN:VEVENT
SUMMARY:Entrainement du Lundi
UID:ec8a4926-fbef-4518-9346-1e8c9dd2d0fe
DTSTART:20260629T180000Z
DTEND:20260629T203000Z
LOCATION:Localisation   
CATEGORIES:Sportif
STATUS:
URL;VALUE=URI:https://www.tt-mennecy.com/evenements/2026/06/29/entrainement-du-lundi-2433851
END:VEVENT
END:VCALENDAR
